BEGIN:VCALENDAR
VERSION:2.0
PRODID:-//CIBD - ECPv6.15.20//NONSGML v1.0//EN
CALSCALE:GREGORIAN
METHOD:PUBLISH
X-WR-CALNAME:CIBD
X-ORIGINAL-URL:https://cibd-ca.org
X-WR-CALDESC:Events for CIBD
REFRESH-INTERVAL;VALUE=DURATION:PT1H
X-Robots-Tag:noindex
X-PUBLISHED-TTL:PT1H
BEGIN:VTIMEZONE
TZID:America/Los_Angeles
BEGIN:DAYLIGHT
TZOFFSETFROM:-0800
TZOFFSETTO:-0700
TZNAME:PDT
DTSTART:20250309T100000
END:DAYLIGHT
BEGIN:STANDARD
TZOFFSETFROM:-0700
TZOFFSETTO:-0800
TZNAME:PST
DTSTART:20251102T090000
END:STANDARD
BEGIN:DAYLIGHT
TZOFFSETFROM:-0800
TZOFFSETTO:-0700
TZNAME:PDT
DTSTART:20260308T100000
END:DAYLIGHT
BEGIN:STANDARD
TZOFFSETFROM:-0700
TZOFFSETTO:-0800
TZNAME:PST
DTSTART:20261101T090000
END:STANDARD
BEGIN:DAYLIGHT
TZOFFSETFROM:-0800
TZOFFSETTO:-0700
TZNAME:PDT
DTSTART:20270314T100000
END:DAYLIGHT
BEGIN:STANDARD
TZOFFSETFROM:-0700
TZOFFSETTO:-0800
TZNAME:PST
DTSTART:20271107T090000
END:STANDARD
END:VTIMEZONE
BEGIN:VEVENT
DTSTART;VALUE=DATE:20260408
DTEND;VALUE=DATE:20260409
DTSTAMP:20260423T080508
CREATED:20260219T190157Z
LAST-MODIFIED:20260219T190709Z
UID:1793-1775606400-1775692799@cibd-ca.org
SUMMARY:CIBD Community Fundraiser with Panda Express
DESCRIPTION:Dine for a Cause with Panda Express! \nSupport the Center for Inherited Blood Disorders (CIBD) while enjoying your favorite Panda Express meals! On Wednesday\, April 8\, 2026\, place your online order for pickup or delivery and enter fundraiser code 9010595 at checkout. \nWhen: Wednesday\, April 8\, 2026Where: Any Panda Express location nationwide \nHow: Order online or via the Panda Express app and enter fundraiser code 9010595 at checkout. Visit www.pandaexpress.com. \n28% of your order will be donated to CIBD\, helping provide comprehensive care for individuals with inherited blood disorders. \nMake your meal matter. Order and give back! \n\n 
URL:https://cibd-ca.org/event/cibd-community-fundraiser-with-panda-express/
LOCATION:CA
END:VEVENT
END:VCALENDAR