BEGIN:VCALENDAR
VERSION:2.0
PRODID:-//CIBD - ECPv6.15.20//NONSGML v1.0//EN
CALSCALE:GREGORIAN
METHOD:PUBLISH
X-WR-CALNAME:CIBD
X-ORIGINAL-URL:https://cibd-ca.org
X-WR-CALDESC:Events for CIBD
REFRESH-INTERVAL;VALUE=DURATION:PT1H
X-Robots-Tag:noindex
X-PUBLISHED-TTL:PT1H
BEGIN:VTIMEZONE
TZID:America/Los_Angeles
BEGIN:DAYLIGHT
TZOFFSETFROM:-0800
TZOFFSETTO:-0700
TZNAME:PDT
DTSTART:20250309T100000
END:DAYLIGHT
BEGIN:STANDARD
TZOFFSETFROM:-0700
TZOFFSETTO:-0800
TZNAME:PST
DTSTART:20251102T090000
END:STANDARD
BEGIN:DAYLIGHT
TZOFFSETFROM:-0800
TZOFFSETTO:-0700
TZNAME:PDT
DTSTART:20260308T100000
END:DAYLIGHT
BEGIN:STANDARD
TZOFFSETFROM:-0700
TZOFFSETTO:-0800
TZNAME:PST
DTSTART:20261101T090000
END:STANDARD
BEGIN:DAYLIGHT
TZOFFSETFROM:-0800
TZOFFSETTO:-0700
TZNAME:PDT
DTSTART:20270314T100000
END:DAYLIGHT
BEGIN:STANDARD
TZOFFSETFROM:-0700
TZOFFSETTO:-0800
TZNAME:PST
DTSTART:20271107T090000
END:STANDARD
END:VTIMEZONE
BEGIN:VEVENT
DTSTART;TZID=America/Los_Angeles:20260416T180000
DTEND;TZID=America/Los_Angeles:20260416T200000
DTSTAMP:20260423T080258
CREATED:20260218T234531Z
LAST-MODIFIED:20260218T235813Z
UID:1787-1776362400-1776369600@cibd-ca.org
SUMMARY:Sickle Cell Transition Open House
DESCRIPTION:Join us for an evening open house focused on community connection and education. The event will feature brief presentations about CIBD programs and services\, insights on the transition from pediatric to adult care\, and opportunities to connect with patients\, families\, and care teams. Dinner will be provided by the Sickle Cell Disease Foundation. Please RSVP with your care team or call CIBD (714) 221-1200. \n 
URL:https://cibd-ca.org/event/sickle-cell-transition-open-house/
LOCATION:Center for Inherited Blood Disorders\, 701 S. Parker St. Suite 1000\, Orange\, CA\, 92868\, United States
END:VEVENT
END:VCALENDAR